Workbook

Sheet 交易日志
A1: 日期 | B1: 代码 | C1: 方向 | D1: 形态/系统 | E1: 入场价 | F1: 止损价 | G1: 目标价 | H1: 股数 | I1: 风险金额 | J1: 风险比例 | K1: 计划盈亏比 | L1: 离场价 | M1: 费用 | N1: 盈亏 | O1: R 倍数 | P1: 按计划执行 | Q1: 备注 | R1: 经验教训
I2: =IF(OR(E2="",F2="",H2=""),"",ABS(E2-F2)*H2) | J2: =IF(OR(I2="",'汇总'!$B$4=""),"",I2/'汇总'!$B$4) | K2: =IF(OR(E2="",F2="",G2=""),"",IF(E2=F2,"",ABS(G2-E2)/ABS(E2-F2))) | N2: =IF(OR(E2="",H2="",L2=""),"",(L2-E2)*H2*IF(C2="做空",-1,1)-N(M2)) | O2: =IF(OR(N2="",I2=""),"",IF(I2=0,"",N2/I2))
I3: =IF(OR(E3="",F3="",H3=""),"",ABS(E3-F3)*H3) | J3: =IF(OR(I3="",'汇总'!$B$4=""),"",I3/'汇总'!$B$4) | K3: =IF(OR(E3="",F3="",G3=""),"",IF(E3=F3,"",ABS(G3-E3)/ABS(E3-F3))) | N3: =IF(OR(E3="",H3="",L3=""),"",(L3-E3)*H3*IF(C3="做空",-1,1)-N(M3)) | O3: =IF(OR(N3="",I3=""),"",IF(I3=0,"",N3/I3))
I4: =IF(OR(E4="",F4="",H4=""),"",ABS(E4-F4)*H4) | J4: =IF(OR(I4="",'汇总'!$B$4=""),"",I4/'汇总'!$B$4) | K4: =IF(OR(E4="",F4="",G4=""),"",IF(E4=F4,"",ABS(G4-E4)/ABS(E4-F4))) | N4: =IF(OR(E4="",H4="",L4=""),"",(L4-E4)*H4*IF(C4="做空",-1,1)-N(M4)) | O4: =IF(OR(N4="",I4=""),"",IF(I4=0,"",N4/I4))
I5: =IF(OR(E5="",F5="",H5=""),"",ABS(E5-F5)*H5) | J5: =IF(OR(I5="",'汇总'!$B$4=""),"",I5/'汇总'!$B$4) | K5: =IF(OR(E5="",F5="",G5=""),"",IF(E5=F5,"",ABS(G5-E5)/ABS(E5-F5))) | N5: =IF(OR(E5="",H5="",L5=""),"",(L5-E5)*H5*IF(C5="做空",-1,1)-N(M5)) | O5: =IF(OR(N5="",I5=""),"",IF(I5=0,"",N5/I5))
I6: =IF(OR(E6="",F6="",H6=""),"",ABS(E6-F6)*H6) | J6: =IF(OR(I6="",'汇总'!$B$4=""),"",I6/'汇总'!$B$4) | K6: =IF(OR(E6="",F6="",G6=""),"",IF(E6=F6,"",ABS(G6-E6)/ABS(E6-F6))) | N6: =IF(OR(E6="",H6="",L6=""),"",(L6-E6)*H6*IF(C6="做空",-1,1)-N(M6)) | O6: =IF(OR(N6="",I6=""),"",IF(I6=0,"",N6/I6))
I7: =IF(OR(E7="",F7="",H7=""),"",ABS(E7-F7)*H7) | J7: =IF(OR(I7="",'汇总'!$B$4=""),"",I7/'汇总'!$B$4) | K7: =IF(OR(E7="",F7="",G7=""),"",IF(E7=F7,"",ABS(G7-E7)/ABS(E7-F7))) | N7: =IF(OR(E7="",H7="",L7=""),"",(L7-E7)*H7*IF(C7="做空",-1,1)-N(M7)) | O7: =IF(OR(N7="",I7=""),"",IF(I7=0,"",N7/I7))
I8: =IF(OR(E8="",F8="",H8=""),"",ABS(E8-F8)*H8) | J8: =IF(OR(I8="",'汇总'!$B$4=""),"",I8/'汇总'!$B$4) | K8: =IF(OR(E8="",F8="",G8=""),"",IF(E8=F8,"",ABS(G8-E8)/ABS(E8-F8))) | N8: =IF(OR(E8="",H8="",L8=""),"",(L8-E8)*H8*IF(C8="做空",-1,1)-N(M8)) | O8: =IF(OR(N8="",I8=""),"",IF(I8=0,"",N8/I8))
I9: =IF(OR(E9="",F9="",H9=""),"",ABS(E9-F9)*H9) | J9: =IF(OR(I9="",'汇总'!$B$4=""),"",I9/'汇总'!$B$4) | K9: =IF(OR(E9="",F9="",G9=""),"",IF(E9=F9,"",ABS(G9-E9)/ABS(E9-F9))) | N9: =IF(OR(E9="",H9="",L9=""),"",(L9-E9)*H9*IF(C9="做空",-1,1)-N(M9)) | O9: =IF(OR(N9="",I9=""),"",IF(I9=0,"",N9/I9))
I10: =IF(OR(E10="",F10="",H10=""),"",ABS(E10-F10)*H10) | J10: =IF(OR(I10="",'汇总'!$B$4=""),"",I10/'汇总'!$B$4) | K10: =IF(OR(E10="",F10="",G10=""),"",IF(E10=F10,"",ABS(G10-E10)/ABS(E10-F10))) | N10: =IF(OR(E10="",H10="",L10=""),"",(L10-E10)*H10*IF(C10="做空",-1,1)-N(M10)) | O10: =IF(OR(N10="",I10=""),"",IF(I10=0,"",N10/I10))
I11: =IF(OR(E11="",F11="",H11=""),"",ABS(E11-F11)*H11) | J11: =IF(OR(I11="",'汇总'!$B$4=""),"",I11/'汇总'!$B$4) | K11: =IF(OR(E11="",F11="",G11=""),"",IF(E11=F11,"",ABS(G11-E11)/ABS(E11-F11))) | N11: =IF(OR(E11="",H11="",L11=""),"",(L11-E11)*H11*IF(C11="做空",-1,1)-N(M11)) | O11: =IF(OR(N11="",I11=""),"",IF(I11=0,"",N11/I11))
I12: =IF(OR(E12="",F12="",H12=""),"",ABS(E12-F12)*H12) | J12: =IF(OR(I12="",'汇总'!$B$4=""),"",I12/'汇总'!$B$4) | K12: =IF(OR(E12="",F12="",G12=""),"",IF(E12=F12,"",ABS(G12-E12)/ABS(E12-F12))) | N12: =IF(OR(E12="",H12="",L12=""),"",(L12-E12)*H12*IF(C12="做空",-1,1)-N(M12)) | O12: =IF(OR(N12="",I12=""),"",IF(I12=0,"",N12/I12))
I13: =IF(OR(E13="",F13="",H13=""),"",ABS(E13-F13)*H13) | J13: =IF(OR(I13="",'汇总'!$B$4=""),"",I13/'汇总'!$B$4) | K13: =IF(OR(E13="",F13="",G13=""),"",IF(E13=F13,"",ABS(G13-E13)/ABS(E13-F13))) | N13: =IF(OR(E13="",H13="",L13=""),"",(L13-E13)*H13*IF(C13="做空",-1,1)-N(M13)) | O13: =IF(OR(N13="",I13=""),"",IF(I13=0,"",N13/I13))
... I501: =IF(OR(E501="",F501="",H501=""),"",ABS(E501-F501)*H501) | J501: =IF(OR(I501="",'汇总'!$B$4=""),"",I501/'汇总'!$B$4) | K501: =IF(OR(E501="",F501="",G501=""),"",IF(E501=F501,"",ABS(G501-E501)/ABS(E501-F501))) | N501: =IF(OR(E501="",H501="",L501=""),"",(L501-E501)*H501*IF(C501="做空",-1,1)-N(M501)) | O501: =IF(OR(N501="",I501=""),"",IF(I501=0,"",N501/I501))

Sheet 汇总
A1: 交易日志汇总
A2: 请在带底色的单元格中填写账户规模，其余各项均根据“交易日志”表自动计算（已平仓交易即填写了离场价的行）。
A4: 账户规模（美元）
A6: 统计项 | B6: 数值
A7: 已平仓笔数 | B7: =COUNT('交易日志'!$O$2:$O$501)
A8: 盈利笔数（R 大于 0） | B8: =COUNTIF('交易日志'!$O$2:$O$501,">0")
A9: 亏损笔数（R 小于 0） | B9: =COUNTIF('交易日志'!$O$2:$O$501,"<0")
A10: 胜率 | B10: =IF(B7=0,"",B8/B7)
A11: 平均盈利（R） | B11: =IFERROR(AVERAGEIF('交易日志'!$O$2:$O$501,">0"),"")
A12: 平均亏损（R） | B12: =IFERROR(-AVERAGEIF('交易日志'!$O$2:$O$501,"<0"),"")
A13: 平均盈亏比（平均盈利 ÷ 平均亏损） | B13: =IFERROR(B11/B12,"")
A14: 每笔交易期望值（R） | B14: =IF(B7=0,"",B10*N(B11)-(B9/B7)*N(B12))
A15: 累计 R | B15: =SUM('交易日志'!$O$2:$O$501)
A16: 净盈亏（美元） | B16: =SUM('交易日志'!$N$2:$N$501)
A17: 盈利因子（总盈利 ÷ 总亏损） | B17: =IFERROR(SUMIF('交易日志'!$N$2:$N$501,">0")/-SUMIF('交易日志'!$N$2:$N$501,"<0"),"")
A18: 最大单笔亏损（R） | B18: =IF(B7=0,"",MIN('交易日志'!$O$2:$O$501))
A19: 平均单笔风险（占账户比例） | B19: =IFERROR(AVERAGE('交易日志'!$J$2:$J$501),"")
A20: 按计划执行的已平仓交易占比 | B20: =IF(B7=0,"",SUMPRODUCT(('交易日志'!$P$2:$P$501="是")*ISNUMBER('交易日志'!$O$2:$O$501))/B7)
A21: 按计划执行时的期望值（R） | B21: =IFERROR(AVERAGEIFS('交易日志'!$O$2:$O$501,'交易日志'!$P$2:$P$501,"是"),"")
A22: 其他交易的期望值（R） | B22: =IFERROR(AVERAGEIFS('交易日志'!$O$2:$O$501,'交易日志'!$P$2:$P$501,"<>是"),"")

Sheet 使用说明
A1: 交易日志使用说明
A2: 1. 在“汇总”表带底色的单元格中填写账户规模。
A3: 2. 每笔交易入场前，在“交易日志”表中填写一行：日期、代码、方向、形态、入场价、止损价、目标价和股数。下单前请核对风险比例和计划盈亏比。
A4: 3. 离场后填写离场价和费用，盈亏与 R 倍数自动计算。
A5: 4. 记录是否按计划执行、交易经过和一条经验教训。
A6: 5. 每周查看一次“汇总”表。评估交易系统应基于数十笔交易，而非寥寥数笔。
A7: 公式列已预置 500 笔交易的行。如需更多，请将最后一行向下复制。请勿在公式列中手动输入。
A9: 列 | B9: 内容说明
A10: 日期 | B10: 入场日期（yyyy-mm-dd）。
A11: 代码 | B11: 股票或 ETF 的代码。
A12: 方向 | B12: 从下拉列表选择做多或做空。做空时盈亏符号相反。
A13: 形态/系统 | B13: 该笔交易所依据的书面形态或交易系统，请始终使用同一名称。
A14: 入场价 | B14: 每股平均入场价。
A15: 止损价 | B15: 入场前设定的初始止损价。即使之后调整止损，此处仍保留原值。
A16: 目标价 | B16: 计划目标价；如该形态不设目标，请留空。
A17: 股数 | B17: 买入或卖空的股数。
A18: 风险金额 | B18: 公式：|入场价 − 止损价| × 股数，即触及止损时的亏损金额（未计跳空与成本）。
A19: 风险比例 | B19: 公式：风险金额 ÷ “汇总”表中的账户规模。
A20: 计划盈亏比 | B20: 公式：|目标价 − 入场价| ÷ |入场价 − 止损价|，即入场前计划的回报风险比。
... A27: 经验教训 | B27: 下次应坚持或改进的一点。
A29: Clear Tape（cleartape.ai）· 本模板仅供学习使用，不构成投资建议。
